BEGIN:VCALENDAR
VERSION:2.0
PRODID:-//wp-events-plugin.com//6.5//EN
TZID:America/Vancouver
X-WR-TIMEZONE:America/Vancouver
BEGIN:VEVENT
UID:26-6957@vancouver.swea.org
DTSTART:20241024T190000Z
DTEND:20241024T210000Z
DTSTAMP:20241021T181230Z
URL:https://vancouver.swea.org/events/wellness-kvall-med-anna-karlberg-rhn
 /
SUMMARY:Wellness-kväll med Anna Karlberg RHN™
DESCRIPTION:SWEA Vancouver bjuder in till en må bra-kväll ledd av vår eg
 na SWEA Anna Karlberg som är registrerad holistisk nutritionist samt cert
 ifierad i holistisk matlagning (holistic culinary certificate). Med sig i 
 bagaget har Anna ett livslångt intresse för mat och välmående och brin
 ner för att utbilda och informera om den viktiga roll som mat och livstil
  har för vårt välmående.\n\nMed förkylnings- och influensasäsongen r
 unt hörnet är det viktigare än någonsin att fokusera på att stärka d
 itt immunförsvar – och allt börjar med magen. Nästan 70 % av ditt imm
 unförsvar finns i matsmältningskanalen\, vilket gör tarmhälsa till en 
 avgörande faktor för din kropps förmåga att avvärja sjukdomar och reg
 lera inflammation. I den här workshopen kommer vi att utforska hur en hä
 lsosam mikrobiom stödjer ditt immunförsvar och ger praktiska tips om hur
  du kan boosta det både genom mat och livsstilsval.\n\nDatum och tid: Tor
 sdagen den 24 oktober kl 19. Var: Hemma hos Anna Virtuellt? Ja! Vi kommer 
 att skicka ut en zoom-link för er som gärna vill ta del av föredraget m
 en inte kan komma hem till Anna. Ange i kommentar-rutan om du kommer att d
 eltaga via zoom så vi vet hur många vi blir live vs zoom. Vi ser verklig
 en fram emot detta spännande\, och intressanta event. Varmt välkomna!\n\
 nhttps://www.evite.com/event/0154T7HDC3CNIQI72EPPQ7VTXSIQEIgid=03796WCMFAS
 OR4HNEEPPRF46VHZKJA&amp\;source_nctr=general\n\nZoom-länk https://us05web
 .zoom.us/j/89006153134?pwd=pR83OjeK8vegFRHwLhTZce7m30rHsu.1\n\nMeeting ID:
  890 0615 3134 Passcode: 379503
END:VEVENT
END:VCALENDAR