BEGIN:VCALENDAR
VERSION:2.0
PRODID:-//wp-events-plugin.com//6.5//EN
TZID:America/Vancouver
X-WR-TIMEZONE:America/Vancouver
BEGIN:VEVENT
UID:26-1524@vancouver.swea.org
DTSTART;VALUE=DATE:20221021
DTEND;VALUE=DATE:20221031
DTSTAMP:20221008T053321Z
URL:https://vancouver.swea.org/events/swea-stegtavling/
SUMMARY:SWEA Stegtävling
DESCRIPTION:SWEA San Fransisco utmanar alla promenad-glada Sweor i höst ig
 en till en stegtävling! Startskottet går fredag morgon den 21:a oktober 
 och målsnöret når vi söndag kväll den 30:e oktober! Vi kör samma reg
 ler som i våras (mer information kommer i email).
END:VEVENT
END:VCALENDAR