BEGIN:VCALENDAR
VERSION:2.0
PRODID:-//wp-events-plugin.com//6.5//EN
TZID:America/Vancouver
X-WR-TIMEZONE:America/Vancouver
BEGIN:VEVENT
UID:26-2793@vancouver.swea.org
DTSTART:20230418T200000Z
DTEND:20230418T213000Z
DTSTAMP:20230305T001428Z
URL:https://vancouver.swea.org/events/swea-professional-6/
SUMMARY:SWEA Professional
DESCRIPTION:Zoom-länk kommer på mailen
END:VEVENT
END:VCALENDAR