BEGIN:VCALENDAR
VERSION:2.0
PRODID:-//wp-events-plugin.com//6.5//EN
TZID:America/Vancouver
X-WR-TIMEZONE:America/Vancouver
BEGIN:VEVENT
UID:26-10199@vancouver.swea.org
DTSTART:20260228T183000Z
DTEND:20260228T220000Z
DTSTAMP:20260224T190415Z
URL:https://vancouver.swea.org/events/swea-gar-pa-abba-candlelight-tribute
 -konsert/
SUMMARY:SWEA går på ABBA candlelight tribute konsert!
DESCRIPTION:SWEA går på ABBA candlelight tribute konsert och middag!\n\nL
 ördagen den 28:e februari.\n\nDe som vill träffas på middag innan kl 18
 :30 på Italien Kitchen\, sen promenerar vi över till Christ Church Cathe
 dral för konserten som börjar kl 8:30 med insläpp 45 minuter innan.\n\n
 Snälla skriv i kommentarerna om ni vill följa med på middag innan så v
 i kan boka bord. Här är evite.\n\nVi får köpa våra biljetter själva\
 , vi tänkte zone B men vilken som går bra så klart.\n\nhttps://feverup.
 com/m/123869\n\nSer fram emot en mysig kväll!
END:VEVENT
END:VCALENDAR