BEGIN:VCALENDAR
VERSION:2.0
PRODID:-//wp-events-plugin.com//6.5//EN
TZID:America/Vancouver
X-WR-TIMEZONE:America/Vancouver
BEGIN:VEVENT
UID:26-3264@vancouver.swea.org
DTSTART:20230617T180000Z
DTEND:20230617T210000Z
DTSTAMP:20230418T153306Z
URL:https://vancouver.swea.org/events/spel-och-vinkvall-i-north-vancouver/
SUMMARY:Spel och Vinkväll i North Vancouver
DESCRIPTION:Välkomna hem till Åsa för Spel och vin. Evite kommer på ema
 ilen.
ATTACH;FMTTYPE=image/jpeg:https://vancouver.swea.org/wp-content/uploads/si
 tes/26/2023/04/Board-games.jpg
END:VEVENT
END:VCALENDAR