BEGIN:VCALENDAR
VERSION:2.0
PRODID:-//wp-events-plugin.com//6.5//EN
TZID:America/Vancouver
X-WR-TIMEZONE:America/Vancouver
BEGIN:VEVENT
UID:26-2800@vancouver.swea.org
DTSTART:20230328T120000Z
DTEND:20230328T133000Z
DTSTAMP:20230311T223646Z
URL:https://vancouver.swea.org/events/smaklokarna-2/
SUMMARY:Smaklökarna
DESCRIPTION:Lunchställe: TBD
END:VEVENT
END:VCALENDAR