BEGIN:VCALENDAR
VERSION:2.0
PRODID:-//wp-events-plugin.com//6.5//EN
TZID:America/Vancouver
X-WR-TIMEZONE:America/Vancouver
BEGIN:VEVENT
UID:26-4251@vancouver.swea.org
DTSTART:20231119T000000Z
DTEND:20231119T000000Z
DTSTAMP:20231011T223513Z
URL:https://vancouver.swea.org/events/sju-sorters-kakor/
SUMMARY:Sju sorters kakor
DESCRIPTION:
END:VEVENT
END:VCALENDAR