BEGIN:VCALENDAR
VERSION:2.0
PRODID:-//wp-events-plugin.com//6.5//EN
TZID:America/Vancouver
X-WR-TIMEZONE:America/Vancouver
BEGIN:VEVENT
UID:26-10197@vancouver.swea.org
DTSTART:20260309T090000Z
DTEND:20260309T110000Z
DTSTAMP:20260224T185914Z
URL:https://vancouver.swea.org/events/lar-dig-skidskytte-med-swea/
SUMMARY:Lär dig skidskytte med SWEA
DESCRIPTION:Ni är inbjudna att lära er skidskytte med SWEA. Vi bokar en l
 ektion i Callahan kl 9:30 den 9:e mars. Max antal är 12 personer.\n\nNi k
 an läsa mer här: https://www.whistlerolympicpark.com/lessons-programs/bi
 athlon-lessons#:~:text=Bookable%20lesson%20times%209:30am\,desk%20in%20the
 %20Day%20Lodge !\n\nVi kommer att återkomma med exakt kostnad när vi vet
  hur många som är intresserade eftersom priset varierar beroende på hur
  många som skriver upp sig.\n\nOm intresset är stort kan vi försöka bo
 ka en till instruktör då kan vi vara upp till 12 personer.\n\nNi är vä
 lkomna att tillbringa söndags-natten i Cissis hus. Vi går ut och äter p
 å kvällen i Nita Lake Lodge och sen hem och myser framför brasan.\n\nSn
 älla ta med egna sängkläder och handdukar för att underlätta städnin
 gen dagen efter.\n\nOm man bara vill komma upp och gå och äta och sova 
 över och sen göra din egen grej på måndagen går det bra det med!\n\nS
 nälla svara snabbt\, senast lördag 22 februari\, om ni är intresserade 
 så vi kan försöka boka lektionen. https://www.evite.com/event/0154IIAE4
 SKDAAIBCEPRBVOA6CMP3A\n\nVi ses!
END:VEVENT
END:VCALENDAR