BEGIN:VCALENDAR
VERSION:2.0
PRODID:-//wp-events-plugin.com//6.5//EN
TZID:America/Vancouver
X-WR-TIMEZONE:America/Vancouver
BEGIN:VEVENT
UID:26-606@vancouver.swea.org
DTSTART;VALUE=DATE:20220520
DTEND;VALUE=DATE:20220530
DTSTAMP:20220521T034649Z
URL:https://vancouver.swea.org/events/steg-for-halsa-2/
SUMMARY:Steg för Hälsa
DESCRIPTION:Vi har återigen blivit inbjudna till stegtävling! Denna gång
  börjar tävlingen på morgonen den 20 maj och slutar på kvällen den 29
  maj.\n \nDu väljer om du vill tävla i epikuré-klassen\, där man räk
 nar upp till 10000 steg per dag (max är alltså 10000/dag där) eller om 
 du vill tävla i aktiva klassen där du räknar alla steg du tar. Den som 
 går lite mindre bör välja epikuré och den som går mer bör välja akt
 iv.\n \nGå med i facebookgruppen Steg för hälsa - SWEA för mer inform
 ation och för att se och dela bilder och erfarenheter under tävlingens 
 gång.\n \nOm du är intresserad att vara med\, maila Marinette och medde
 la vilken klass du vill tävla i.
END:VEVENT
BEGIN:VEVENT
UID:26-600@vancouver.swea.org
DTSTART;TZID=America/Vancouver:20220608T200000
DTEND;TZID=America/Vancouver:20220608T213000
DTSTAMP:20220520T052136Z
URL:https://vancouver.swea.org/events/bokbabblarna-3/
SUMMARY:Bokbabblarna
DESCRIPTION:Bokbabblarna träffas den 8:e juni för sista gången innan som
 maruppehållet. Vi träffas och äter lunch och diskuterar boken Expeditio
 n Sverige av Linda Åkerberg. Inbjudan kommer att skickas ut via mail.
ATTACH;FMTTYPE=image/jpeg:https://vancouver.swea.org/wp-content/uploads/si
 tes/26/2022/05/9789127170469_200x_expedition-sverige-vandra-cykla-paddla-f
 ran-smygehuk-i-soder-till-treriksroset-i-norr.png
END:VEVENT
BEGIN:VEVENT
UID:26-1522@vancouver.swea.org
DTSTART;TZID=America/Vancouver:20221013T180000
DTEND;TZID=America/Vancouver:20221013T200000
DTSTAMP:20221008T052852Z
URL:https://vancouver.swea.org/events/bastu-och-havsbad/
SUMMARY:Bastu och havsbad
DESCRIPTION:Vi badar bastu tillsammans och tar oss ett (eller flera) kallt 
 dopp i havet. Mer information om bastun hittar du här: https://thefinnish
 sauna.ca\n\nInbjudan finns på Evite.
END:VEVENT
BEGIN:VEVENT
UID:26-1523@vancouver.swea.org
DTSTART:20221018T080000Z
DTEND:20221018T093000Z
DTSTAMP:20221008T053216Z
URL:https://vancouver.swea.org/events/bokbabblarna-4/
SUMMARY:Bokbabblarna
DESCRIPTION:Dags för Bokbabblarna att sätta sig i soffan och njuta av en 
 bra bok! Vi kör första träffen den 18:e oktober och diskuterar då Malm
 a station av Alex Schulman. Schemat för kommande träffar hittar ni här 
 nedan. Det finns fortfarande utrymme att föreslå en bok (kanske en klass
 iker?) som vi kan läsa och diskutera innan vi går på ”sommarlov” i 
 juni. Inbjudan finns på Evite.\n\nTillsvidare bokas träffarna in kl 20-2
 1 via Zoom (Evites kommer att skickas ut) på de angivna datumen\, men om 
 ni är sugna på att ses ”in person” en annan tid är det bara att hö
 ra av sig till Karin (på adress karin.bjorklund@gmail.com) så diskuterar
  vi ihop oss. Vore kul att träffa alla Bokbabblare i verkliga livet lite 
 oftare! 
END:VEVENT
BEGIN:VEVENT
UID:26-1525@vancouver.swea.org
DTSTART;VALUE=DATE:20221021
DTEND;VALUE=DATE:20221022
DTSTAMP:20221008T053412Z
URL:https://vancouver.swea.org/events/swea-stegtavling-2/
SUMMARY:SWEA Stegtävling
DESCRIPTION:Vi kickar i gång stegtävlingen med en morgonpromenad och avsl
 utar med en kopp kaffe eller te tillsammans på kafé. 
END:VEVENT
BEGIN:VEVENT
UID:26-1524@vancouver.swea.org
DTSTART;VALUE=DATE:20221021
DTEND;VALUE=DATE:20221031
DTSTAMP:20221008T053321Z
URL:https://vancouver.swea.org/events/swea-stegtavling/
SUMMARY:SWEA Stegtävling
DESCRIPTION:SWEA San Fransisco utmanar alla promenad-glada Sweor i höst ig
 en till en stegtävling! Startskottet går fredag morgon den 21:a oktober 
 och målsnöret når vi söndag kväll den 30:e oktober! Vi kör samma reg
 ler som i våras (mer information kommer i email).
END:VEVENT
BEGIN:VEVENT
UID:26-1526@vancouver.swea.org
DTSTART:20221026T100000Z
DTEND:20221026T120000Z
DTSTAMP:20221008T053526Z
URL:https://vancouver.swea.org/events/bokbytarfika/
SUMMARY:Bokbytarfika
DESCRIPTION:
END:VEVENT
BEGIN:VEVENT
UID:26-1527@vancouver.swea.org
DTSTART:20221028T060000Z
DTEND:20221028T100000Z
DTSTAMP:20221008T053642Z
URL:https://vancouver.swea.org/events/after-work-5/
SUMMARY:After Work
DESCRIPTION:After Work på stan. Alla svenskar i Vancouver är välkomna!
END:VEVENT
BEGIN:VEVENT
UID:26-2787@vancouver.swea.org
DTSTART:20230228T120000Z
DTEND:20230328T133000Z
DTSTAMP:20230305T000607Z
URL:https://vancouver.swea.org/events/smaklokarna/
SUMMARY:Smaklökarna
DESCRIPTION:Lunchställe: TBD
END:VEVENT
BEGIN:VEVENT
UID:26-2786@vancouver.swea.org
DTSTART:20230321T200000Z
DTEND:20230321T210000Z
DTSTAMP:20230305T000640Z
URL:https://vancouver.swea.org/events/swea-professional-5/
SUMMARY:SWEA Professional
DESCRIPTION:
END:VEVENT
BEGIN:VEVENT
UID:26-2800@vancouver.swea.org
DTSTART:20230328T120000Z
DTEND:20230328T133000Z
DTSTAMP:20230311T223646Z
URL:https://vancouver.swea.org/events/smaklokarna-2/
SUMMARY:Smaklökarna
DESCRIPTION:Lunchställe: TBD
END:VEVENT
BEGIN:VEVENT
UID:26-2788@vancouver.swea.org
DTSTART:20230402T000000Z
DTEND:20230402T000000Z
DTSTAMP:20230305T001217Z
URL:https://vancouver.swea.org/events/besok-pa-swedish-heritage/
SUMMARY:Besök på Swedish Heritage
DESCRIPTION:Mer information kommer.\n\nhttps://goo.gl/maps/CtDW2ZSREJsWeXZ2
 8
LOCATION:Swedish Heritage\, 1812 Duthie Ave\, Burnaby\, BC\,  V5A 3R3\, Kan
 ada
X-APPLE-STRUCTURED-LOCATION;VALUE=URI;X-ADDRESS=1812 Duthie Ave\, Burnaby\,
  BC\,  V5A 3R3\, Kanada;X-APPLE-RADIUS=100;X-TITLE=Swedish Heritage:geo:0,
 0
END:VEVENT
BEGIN:VEVENT
UID:26-2790@vancouver.swea.org
DTSTART:20230407T160000Z
DTEND:20230407T180000Z
DTSTAMP:20230305T001235Z
URL:https://vancouver.swea.org/events/paskpyssel-med-vin/
SUMMARY:Påskpyssel med vin
DESCRIPTION:Plats: TBD
END:VEVENT
BEGIN:VEVENT
UID:26-2791@vancouver.swea.org
DTSTART:20230411T100000Z
DTEND:20230411T113000Z
DTSTAMP:20230305T002836Z
URL:https://vancouver.swea.org/events/vandring-capilano-canyon/
SUMMARY:Vandring Capilano Canyon
DESCRIPTION:Vi vandrar genom vackra Capilano Canyon. Trailen är 5.3 km och
  det tar oss ca 1.45 timmar.\n\n&nbsp\;\n\n302 Rabbit Ln\, West Vancouver\
 n\nhttps://goo.gl/maps/X9gp9b9MoN9U5Fog7
ATTACH;FMTTYPE=image/jpeg:https://vancouver.swea.org/wp-content/uploads/si
 tes/26/2023/03/IMG_8546-rotated-e1677976065273.jpeg
LOCATION:Capilano Canyon\, 302 Rabbit Ln\, West Vancouver \, BC \, V7S1J5\,
  Kanada
X-APPLE-STRUCTURED-LOCATION;VALUE=URI;X-ADDRESS=302 Rabbit Ln\, West Vancou
 ver \, BC \, V7S1J5\, Kanada;X-APPLE-RADIUS=100;X-TITLE=Capilano Canyon:ge
 o:0,0
END:VEVENT
BEGIN:VEVENT
UID:26-2792@vancouver.swea.org
DTSTART;VALUE=DATE:20230415
DTEND;VALUE=DATE:20230416
DTSTAMP:20230305T003158Z
URL:https://vancouver.swea.org/events/skiddag-i-whistler/
SUMMARY:Skiddag i Whistler
DESCRIPTION:
ATTACH;FMTTYPE=image/jpeg:https://vancouver.swea.org/wp-content/uploads/si
 tes/26/2023/03/Screenshot-2023-03-04-at-4.31.08-PM.png
END:VEVENT
BEGIN:VEVENT
UID:26-2793@vancouver.swea.org
DTSTART:20230418T200000Z
DTEND:20230418T213000Z
DTSTAMP:20230305T001428Z
URL:https://vancouver.swea.org/events/swea-professional-6/
SUMMARY:SWEA Professional
DESCRIPTION:Zoom-länk kommer på mailen
END:VEVENT
BEGIN:VEVENT
UID:26-2789@vancouver.swea.org
DTSTART:20230420T200000Z
DTEND:20230420T210000Z
DTSTAMP:20230305T001453Z
URL:https://vancouver.swea.org/events/bokbabblarna-5/
SUMMARY:Bokbabblarna
DESCRIPTION:Zoom-länk kommer på mailen.
END:VEVENT
BEGIN:VEVENT
UID:26-2798@vancouver.swea.org
DTSTART:20230509T100000Z
DTEND:20230509T114500Z
DTSTAMP:20230309T004025Z
URL:https://vancouver.swea.org/events/vandring-salish-trail-till-spanish-t
 rail-loop-ubc/
SUMMARY:Vandring Salish trail till Spanish Trail Loop UBC
DESCRIPTION:Trailhead SW Marine Trail\n\nhttps://goo.gl/maps/5gU8UeApd7HFtS
 mM8
ATTACH;FMTTYPE=image/jpeg:https://vancouver.swea.org/wp-content/uploads/si
 tes/26/2023/03/Screenshot-2023-03-04-at-4.33.31-PM.png
LOCATION:Salish Trail Loop\, SW Marine Drive \, Vancouver \, BC\, Kanada
X-APPLE-STRUCTURED-LOCATION;VALUE=URI;X-ADDRESS=SW Marine Drive \, Vancouve
 r \, BC\, Kanada;X-APPLE-RADIUS=100;X-TITLE=Salish Trail Loop:geo:0,0
END:VEVENT
BEGIN:VEVENT
UID:26-3263@vancouver.swea.org
DTSTART:20230509T183000Z
DTEND:20230509T213000Z
DTSTAMP:20230418T152547Z
URL:https://vancouver.swea.org/events/bastukvall-vid-havet/
SUMMARY:Bastukväll vid havet
DESCRIPTION:Välkomna till Deep Cove för Bastu och dopp i havet (om du vil
 l). Evite kommer på email.
ATTACH;FMTTYPE=image/jpeg:https://vancouver.swea.org/wp-content/uploads/si
 tes/26/2023/04/marina-with-several-sailboats-e1746899514823.jpg
END:VEVENT
BEGIN:VEVENT
UID:26-2794@vancouver.swea.org
DTSTART:20230513T000000Z
DTEND:20230513T000000Z
DTSTAMP:20230305T001534Z
URL:https://vancouver.swea.org/events/consignment-event/
SUMMARY:Consignment event
DESCRIPTION:Plats och tid: TBD
END:VEVENT
BEGIN:VEVENT
UID:26-2795@vancouver.swea.org
DTSTART:20230516T200000Z
DTEND:20230516T213000Z
DTSTAMP:20230305T001615Z
URL:https://vancouver.swea.org/events/swea-professional-7/
SUMMARY:SWEA Professional
DESCRIPTION:Zoom-länk kommer på mailen
END:VEVENT
BEGIN:VEVENT
UID:26-2796@vancouver.swea.org
DTSTART:20230518T200000Z
DTEND:20230518T213000Z
DTSTAMP:20230305T001645Z
URL:https://vancouver.swea.org/events/bokbabblarna-6/
SUMMARY:Bokbabblarna
DESCRIPTION:Zoom-länk kommer på mailen
END:VEVENT
BEGIN:VEVENT
UID:26-2797@vancouver.swea.org
DTSTART:20230610T000000Z
DTEND:20230610T000000Z
DTSTAMP:20230304T234405Z
URL:https://vancouver.swea.org/events/sillsexan-2/
SUMMARY:Sillsexan
DESCRIPTION:Plats och tid TBD
END:VEVENT
BEGIN:VEVENT
UID:26-2799@vancouver.swea.org
DTSTART:20230613T100000Z
DTEND:20230613T120000Z
DTSTAMP:20230305T002239Z
URL:https://vancouver.swea.org/events/vandring-burnaby-lake-park/
SUMMARY:Vandring Burnaby Lake Park
DESCRIPTION:Vi vandrar 10.3 km\, det tar oss ca 2 timmar\n\nhttps://goo.gl/
 maps/VwAhLm3CMzZryjqf6
ATTACH;FMTTYPE=image/jpeg:https://vancouver.swea.org/wp-content/uploads/si
 tes/26/2023/03/Screenshot-2023-03-04-at-4.21.18-PM-e1746899918269.png
LOCATION:Burnaby Lake Park\, 4519 Piper Ave\,  Burnaby\, BC\, V5A 3B5\, Kan
 ada
X-APPLE-STRUCTURED-LOCATION;VALUE=URI;X-ADDRESS=4519 Piper Ave\,  Burnaby\,
  BC\, V5A 3B5\, Kanada;X-APPLE-RADIUS=100;X-TITLE=Burnaby Lake Park:geo:0,
 0
END:VEVENT
BEGIN:VEVENT
UID:26-3264@vancouver.swea.org
DTSTART:20230617T180000Z
DTEND:20230617T210000Z
DTSTAMP:20230418T153306Z
URL:https://vancouver.swea.org/events/spel-och-vinkvall-i-north-vancouver/
SUMMARY:Spel och Vinkväll i North Vancouver
DESCRIPTION:Välkomna hem till Åsa för Spel och vin. Evite kommer på ema
 ilen.
ATTACH;FMTTYPE=image/jpeg:https://vancouver.swea.org/wp-content/uploads/si
 tes/26/2023/04/Board-games.jpg
END:VEVENT
BEGIN:VEVENT
UID:26-4247@vancouver.swea.org
DTSTART:20231012T000000Z
DTEND:20231015T000000Z
DTSTAMP:20231011T222951Z
URL:https://vancouver.swea.org/events/regionsmote-3/
SUMMARY:Regionsmöte
DESCRIPTION:
LOCATION:https://chicago.swea.org
END:VEVENT
BEGIN:VEVENT
UID:26-4249@vancouver.swea.org
DTSTART:20231019T110000Z
DTEND:20231019T130000Z
DTSTAMP:20231011T223304Z
URL:https://vancouver.swea.org/events/bokbytartraff/
SUMMARY:Bokbytarträff
DESCRIPTION:Har du några böcker liggande? Behöver du en ny bok? Är du k
 affesugen? Det finns många anledningar att komma på SWEAs bokbytarträff
  den 19 oktober. Ta gärna med något litet tilltugg. Kaffe och te servera
 s. Parkering inne på gården och tänk på att köra försiktigt om du se
 r hästar efter vägen.\n\nInbjudan via Evite
END:VEVENT
BEGIN:VEVENT
UID:26-4250@vancouver.swea.org
DTSTART:20231104T000000Z
DTEND:20231104T000000Z
DTSTAMP:20231011T223428Z
URL:https://vancouver.swea.org/events/spelkvall-hos-asa/
SUMMARY:Spelkväll hos Åsa
DESCRIPTION:Vi träffas hemma hos Åsa i Deep Cove och spelar spel.\n\nInbj
 udan via Elite.
END:VEVENT
BEGIN:VEVENT
UID:26-4251@vancouver.swea.org
DTSTART:20231119T000000Z
DTEND:20231119T000000Z
DTSTAMP:20231011T223513Z
URL:https://vancouver.swea.org/events/sju-sorters-kakor/
SUMMARY:Sju sorters kakor
DESCRIPTION:
END:VEVENT
BEGIN:VEVENT
UID:26-4252@vancouver.swea.org
DTSTART:20231121T000000Z
DTEND:20231121T000000Z
DTSTAMP:20231011T223559Z
URL:https://vancouver.swea.org/events/swea-professional-zoom-2/
SUMMARY:SWEA Professional - Zoom
DESCRIPTION:
END:VEVENT
BEGIN:VEVENT
UID:26-4441@vancouver.swea.org
DTSTART:20231123T190000Z
DTEND:20231123T210000Z
DTSTAMP:20231110T230659Z
URL:https://vancouver.swea.org/events/wellness-kvall-med-anna-karlberg/
SUMMARY:Wellness-kväll med Anna Karlberg
DESCRIPTION:SWEA Vancouver bjuder in till en må bra-kväll ledd av vår eg
 na SWEA Anna Karlberg som är certifierad i holistisk matlagning (holistic
  culinary certificate) och som snart tar examen i holistisk näringsfysiol
 ogi.\n\nDen här kvällen är för dig som lider av PMS\, sömnlöshet\, t
 rötthet och känner dig stressad. Vi diskuterar för-klimakteriet och kli
 makteriet\, hur du kan träna optimalt för din mens-cykel\, hur du kan p
 å bästa sätt stödja dina hormoner. Anna delar med mig av naturliga sä
 tt att återställa hormonbalansen och återfå ditt välmående och ger d
 ig verktyg att jobba med din kropp istället för emot den.\n\nRSVP här!
  \n\n&nbsp\;
LOCATION:Anna Karlberg\, 1249 W 22nd Street\, North Vancouver\, British Col
 umbia\, V7P2G2\, Kanada
X-APPLE-STRUCTURED-LOCATION;VALUE=URI;X-ADDRESS=1249 W 22nd Street\, North 
 Vancouver\, British Columbia\, V7P2G2\, Kanada;X-APPLE-RADIUS=100;X-TITLE=
 Anna Karlberg:geo:0,0
END:VEVENT
BEGIN:VEVENT
UID:26-4253@vancouver.swea.org
DTSTART:20231202T000000Z
DTEND:20231202T000000Z
DTSTAMP:20231011T223628Z
URL:https://vancouver.swea.org/events/julfest-4/
SUMMARY:Julfest
DESCRIPTION:
END:VEVENT
BEGIN:VEVENT
UID:26-4955@vancouver.swea.org
DTSTART:20240225T000000Z
DTEND:20240225T000000Z
DTSTAMP:20240122T171850Z
URL:https://vancouver.swea.org/events/bastukvall-och-cold-plunge-i-deep-co
 ve/
SUMMARY:Bastukväll och Cold Plunge i Deep Cove
DESCRIPTION:Mer information kommer på Evite.
END:VEVENT
BEGIN:VEVENT
UID:26-4956@vancouver.swea.org
DTSTART:20240309T000000Z
DTEND:20240309T000000Z
DTSTAMP:20240122T171936Z
URL:https://vancouver.swea.org/events/melodifestival-fest/
SUMMARY:Melodifestival-fest
DESCRIPTION:Mer information kommer på Evite.
END:VEVENT
BEGIN:VEVENT
UID:26-5549@vancouver.swea.org
DTSTART:20240405T180000Z
DTEND:20240405T210000Z
DTSTAMP:20240323T172244Z
URL:https://vancouver.swea.org/events/spelkvall/
SUMMARY:Spelkväll
DESCRIPTION:Favorit i repris: SWEA Vancouver bjuder in till spelkväll hemm
 a hos Emma!\n\nDet blir garanterat en rolig och trivsam kväll. Max 10 per
 soner. Ta gärna med något gott att dela på\, kanske en god dipp\, en go
 disskål eller ett gott vin? Maila vancouver.program@swea.orgom du har nå
 gra frågor.\n\nVälkomna önskar Marinette\, Anna\, Cissi och Emma!
END:VEVENT
BEGIN:VEVENT
UID:26-5548@vancouver.swea.org
DTSTART:20240410T200000Z
DTEND:20240410T213000Z
DTSTAMP:20240323T172037Z
URL:https://vancouver.swea.org/events/bokbabblarna-7/
SUMMARY:Bokbabblarna
DESCRIPTION:Bokbabblarna träffas och diskuterar boken Döda kvinnor förl
 åter inte\, första boken in serien Sekelskiftesmorden av Katarina Wennst
 am.\n\nOm boken: Fyra kvinnor ur olika samhällsklasser bor alla i samma f
 astighet på Södermalm. De förs samman av ett fruktansvärt dödsfall p
 å den gemensamma gården\, under den kylslagna nyårsnatten mellan 1895 o
 ch 1896. Det står snart klart att den avlidna kvinnan försökt genomför
 a en illegal fosterfördrivning. Boken är en ödesmättad skildring av kv
 innors hårda villkor under slutet av 1800-talet. Med ett oemotståndligt 
 språk och rasande driv skildrar Katarina Wennstam en värld som myllrar a
 v tjänsteflickor\, sedeslösa kvinnor\, utnyttjande män och målande bes
 krivningar av såväl staden som utsökta klädedräkter. En gedigen resea
 rch ligger bakom Katarina Wennstams mest passionerade bokprojekt någonsin
 . Ni kan läsa mer om Sekelskiftesmorden och Wennstam här: https://katari
 nawennstam.se/\n\nHör av dig till Karin på nummer 604-364-3344 om du har
  några frågor!\n\nVideo call link: https://meet.google.com/ins-xwjn-ufo
END:VEVENT
BEGIN:VEVENT
UID:26-5550@vancouver.swea.org
DTSTART:20240501T200000Z
DTEND:20240501T213000Z
DTSTAMP:20240418T154936Z
URL:https://vancouver.swea.org/events/helena-loberg-ikea/
SUMMARY:Helene Loberg IKEA
DESCRIPTION:Professional och personlig utveckling. Videoträff onsdagen 1 m
 aj kl 20.\n\nSka bli väldigt spännande att lära känna Helene mer och h
 öra om hennes karriär och flytt hit!\n\nEvite här.
END:VEVENT
BEGIN:VEVENT
UID:26-5551@vancouver.swea.org
DTSTART:20240517T170000Z
DTEND:20240517T210000Z
DTSTAMP:20240323T172534Z
URL:https://vancouver.swea.org/events/eurovision/
SUMMARY:Eurovision
DESCRIPTION:Eurovision hemma hos Anna N-H. Det var ju SÅ roligt på mello-
 festen så vi kör igen 
END:VEVENT
BEGIN:VEVENT
UID:26-5552@vancouver.swea.org
DTSTART:20240528T180000Z
DTEND:20240528T210000Z
DTSTAMP:20240506T220045Z
URL:https://vancouver.swea.org/events/middag-och-aktivitet-oneunder/
SUMMARY:Middag och aktivitet - OneUnder
DESCRIPTION:OneUnder golf\, tisdag 28 maj. Socialt men ändå en aktivitet\
 , yes please!\n\n&nbsp\;\n\nEvite hittar du här.
END:VEVENT
BEGIN:VEVENT
UID:26-5553@vancouver.swea.org
DTSTART:20240608T000000Z
DTEND:20240608T000000Z
DTSTAMP:20240323T172741Z
URL:https://vancouver.swea.org/events/sillsexan-3/
SUMMARY:Sillsexan
DESCRIPTION:Vår stora och alltid uppskattade årliga sommarfest! Evite kom
 mer.
END:VEVENT
BEGIN:VEVENT
UID:26-6560@vancouver.swea.org
DTSTART:20241003T200000Z
DTEND:20241003T213000Z
DTSTAMP:20240924T225947Z
URL:https://vancouver.swea.org/events/bokbabblarna-9/
SUMMARY:Bokbabblarna
DESCRIPTION:Äntligen drar Bokbabblarna igång igen för hösten! Vi börja
 r med den kritikerrosade boken Stacken av Annika Norlin.\n\nLäs mer på E
 vite. 
END:VEVENT
BEGIN:VEVENT
UID:26-6957@vancouver.swea.org
DTSTART:20241024T190000Z
DTEND:20241024T210000Z
DTSTAMP:20241021T181230Z
URL:https://vancouver.swea.org/events/wellness-kvall-med-anna-karlberg-rhn
 /
SUMMARY:Wellness-kväll med Anna Karlberg RHN™
DESCRIPTION:SWEA Vancouver bjuder in till en må bra-kväll ledd av vår eg
 na SWEA Anna Karlberg som är registrerad holistisk nutritionist samt cert
 ifierad i holistisk matlagning (holistic culinary certificate). Med sig i 
 bagaget har Anna ett livslångt intresse för mat och välmående och brin
 ner för att utbilda och informera om den viktiga roll som mat och livstil
  har för vårt välmående.\n\nMed förkylnings- och influensasäsongen r
 unt hörnet är det viktigare än någonsin att fokusera på att stärka d
 itt immunförsvar – och allt börjar med magen. Nästan 70 % av ditt imm
 unförsvar finns i matsmältningskanalen\, vilket gör tarmhälsa till en 
 avgörande faktor för din kropps förmåga att avvärja sjukdomar och reg
 lera inflammation. I den här workshopen kommer vi att utforska hur en hä
 lsosam mikrobiom stödjer ditt immunförsvar och ger praktiska tips om hur
  du kan boosta det både genom mat och livsstilsval.\n\nDatum och tid: Tor
 sdagen den 24 oktober kl 19. Var: Hemma hos Anna Virtuellt? Ja! Vi kommer 
 att skicka ut en zoom-link för er som gärna vill ta del av föredraget m
 en inte kan komma hem till Anna. Ange i kommentar-rutan om du kommer att d
 eltaga via zoom så vi vet hur många vi blir live vs zoom. Vi ser verklig
 en fram emot detta spännande\, och intressanta event. Varmt välkomna!\n\
 nhttps://www.evite.com/event/0154T7HDC3CNIQI72EPPQ7VTXSIQEIgid=03796WCMFAS
 OR4HNEEPPRF46VHZKJA&amp\;source_nctr=general\n\nZoom-länk https://us05web
 .zoom.us/j/89006153134?pwd=pR83OjeK8vegFRHwLhTZce7m30rHsu.1\n\nMeeting ID:
  890 0615 3134 Passcode: 379503
END:VEVENT
BEGIN:VEVENT
UID:26-6958@vancouver.swea.org
DTSTART:20241110T180000Z
DTEND:20241110T200000Z
DTSTAMP:20241021T181707Z
URL:https://vancouver.swea.org/events/swea-vancouver-illuminate-restorante
 /
SUMMARY:SWEA Vancouver - Illuminate Restorante
DESCRIPTION:Häng med oss på en 3-rätters middag på Illuminate Restorant
 e där svenska kocken Roland kommer att reta dina smaklökar med utsökt s
 venskinspirerad mat. Det kommer att finnas något för alla: fisk\, kött 
 eller vegetariskt och smaskig efterrätt. Vi kommer att sitta i det semipr
 ivata främre rummet och det finns plats för 24 personer\, först till kv
 arn gäller. Kommentera här när du bokar din plats om du föredrar fisk\
 , kött eller vegetariskt så att Roland kan förbereda sig inför kvälle
 n. Vänligen OSA senast fredagen den 1 november. Kostnad: $70 (inkluderar 
 skatt och dricks) betalas på restaurangen\, inkluderar inte dryck https:/
 /illuminaterestorante.com/\nEvite:  https://www.evite.com/event/0154DUAYT
 BWVTIOX2EPPRNGSLXSHQY
END:VEVENT
BEGIN:VEVENT
UID:26-6959@vancouver.swea.org
DTSTART:20241114T200000Z
DTEND:20241114T211500Z
DTSTAMP:20241021T181947Z
URL:https://vancouver.swea.org/events/bokbabblarna-10/
SUMMARY:Bokbabblarna
DESCRIPTION:Om boken: Hur många ”jag” kan en människa ha? Kan de komm
 a i konflikt med varandra? Behöver vi tycka om dem alla? Frågan är den 
 röda tråden i Åsa Nilsonnes skildring av hennes liv mellan elva och fem
 ton års ålder.\n\nNär hon var elva flyttade familjen från Beirut till 
 Addis Abeba i Etiopien där hennes far hade blivit ny svensk ambassadör. 
 När hon var femton började hon på internatskola i Sverige. Hennes famil
 j flyttade vidare till Bangkok. Åsa Nilsonne är psykiater och psykoterap
 eut och har forskat på det självbiografiska minnet. Nu lägger hon sitt 
 eget liv under luppen. Kan åren i Addis Abeba ha format den person hon ä
 r i dag? Hur gick det i så fall till? Hur kan vi bäst förhålla oss til
 l vår uppväxt\, oavsett hur den sett ut? Hur kan vi hitta en mer vuxen b
 lick på våra föräldrar? De är ju\, och har alltid varit\, mer än jus
 t föräldrar\, vilket inte syns ur barnets och ungdomens perspektiv Och h
 ur kan vi bli sams med den vi blev? Den som kanske varken föräldrarna el
 ler vi själva tänkte att vi skulle bli? Boken handlar även om språk. H
 ur språket skapar och begränsar oss. Hur är det att vara två- (eller t
 re- eller fyra-) språkig?\n\nBoken följer en berättartradition om språ
 k och kultur som rymmer författare som Jean Rhys\, Marguerite Duras\, Wil
 liam Boyd\, J. M. Coetzee\, Derek Walcott och Franz Fanon. Om du har någr
 a frågor eller problem med att logga in på Google Meet\, hör av dig til
 l Karin på nummer 604-364-3344. Vi ses!\n\nEvite: https://www.evite.com/e
 vent/0154TFTQ4MBSXQMFSEPPQ7XHGQFGUI
END:VEVENT
BEGIN:VEVENT
UID:26-7885@vancouver.swea.org
DTSTART:20250213T110000Z
DTEND:20250213T121500Z
DTSTAMP:20250210T180714Z
URL:https://vancouver.swea.org/events/swea-vancouver-promenerar/
SUMMARY:SWEA Vancouver promenerar
DESCRIPTION:Vi hoppas att du vill ta tillfället i akt och promenera med SW
 EA Vancouver i vår. Vi har planerat in fyra promenader på olika dagar\, 
 tider och platser. Den första promenaden sker den 13 februari klockan 11 
 i Pacific Spirit Park. Mötesplats är korsningen Sasamat Street och 16th.
  Skriv in datumen för de övriga promenaderna redan nu! (Evite kommer ock
 så att skickas innan varje promenad).\n\n\n 	Onsdagen den 5 mars klockan 
 17 i Olympic Village\n 	Söndagen den 13 april klockan 13 vid Burnaby Lake
 \n 	Måndagen den 12 maj klockan 10 vid Ambleside Beach\n\n\nVid frågor\,
  maila: vancouver.program@swea.orgVarma hälsningar från SWEA Vancouver\n
 \nLänk till Evite\nShow less
END:VEVENT
BEGIN:VEVENT
UID:26-7884@vancouver.swea.org
DTSTART:20250213T200000Z
DTEND:20250213T213000Z
DTSTAMP:20250210T180323Z
URL:https://vancouver.swea.org/events/bokbabblarna-11/
SUMMARY:Bokbabblarna
DESCRIPTION:Bokbabblarna läser Mödramärg
END:VEVENT
BEGIN:VEVENT
UID:26-7883@vancouver.swea.org
DTSTART:20250218T180000Z
DTEND:20250218T200000Z
DTSTAMP:20250210T180201Z
URL:https://vancouver.swea.org/events/bowling-pa-grandview-lanes/
SUMMARY:Bowling på Grandview Lanes
DESCRIPTION:Vad är roligare än 5-pin bowling? Jo\, 5-pin "glow-in-the-dar
 k" bowling med SWEA! Kom med på en rolig utekväll med SWEA Vancouver\, t
 isdagen den 18 februari klockan 18 så får du chansen att visa upp dina b
 owlingfärdigheter en gång för alla. Det kostar $20 per person\, och som
  vanligt kan du betala in till vancouver.treasurer@swea.org\nAnmälan är 
 bindande. Det finns mat och dryck att köpa på Grandview Lanes\, och kans
 ke vill några gå vidare och ta en efterrätt eller drink någonstans eft
 er bowlingen. Det vore så roligt att se dig där!\nVänliga hälsningar\,
  SWEA Vancouver Program vancouver.program@swea.org\n&nbsp\;\n\nLänk till 
 Evite
END:VEVENT
BEGIN:VEVENT
UID:26-7889@vancouver.swea.org
DTSTART:20250225T193000Z
DTEND:20250225T210000Z
DTSTAMP:20250210T181719Z
URL:https://vancouver.swea.org/events/arsmote-med-semla/
SUMMARY:Årsmöte med semla
DESCRIPTION:
END:VEVENT
BEGIN:VEVENT
UID:26-7886@vancouver.swea.org
DTSTART:20250305T170000Z
DTEND:20250305T181500Z
DTSTAMP:20250210T180949Z
URL:https://vancouver.swea.org/events/swea-vancouver-promenerar-2/
SUMMARY:SWEA Vancouver Promenerar
DESCRIPTION:Vi hoppas att du vill ta tillfället i akt och promenera med SW
 EA Vancouver i vår. Vi har planerat in fyra promenader på olika dagar\, 
 tider och platser. Denna gång promenerar vi vid Olympic Village. Skriv in
  datumen för de resterande promenaderna redan nu! (Evite kommer också at
 t skickas innan varje promenad).\n\nSöndagen den 13 april klockan 13 vid 
 Burnaby Lake\nMåndagen den 12 maj klockan 10 vid Ambleside Beach\n\nVid f
 rågor\, maila: vancouver.program@swea.org
END:VEVENT
BEGIN:VEVENT
UID:26-7890@vancouver.swea.org
DTSTART:20250311T000000Z
DTEND:20250312T000000Z
DTSTAMP:20250210T181822Z
URL:https://vancouver.swea.org/events/swea-vancouver-goes-to-whistler/
SUMMARY:SWEA Vancouver goes to Whistler
DESCRIPTION:Whistler!!\n\nVi åker längdskidor\, slalom\, går med snösko
 r eller bara myser\, träffas på afterski och sen till Cissis hus för ho
 t tub\, pizza och övernattning. Tillbaka från huset senast kl 12 dagen e
 fter.
END:VEVENT
BEGIN:VTIMEZONE
TZID:America/Vancouver
X-LIC-LOCATION:America/Vancouver
BEGIN:DAYLIGHT
DTSTART:20220313T030000
TZOFFSETFROM:-0800
TZOFFSETTO:-0700
TZNAME:PDT
END:DAYLIGHT
END:VTIMEZONE
END:VCALENDAR