BEGIN:VCALENDAR
VERSION:2.0
PRODID:-//wp-events-plugin.com//6.5//EN
TZID:America/Vancouver
X-WR-TIMEZONE:America/Vancouver
BEGIN:VEVENT
UID:26-4249@vancouver.swea.org
DTSTART:20231019T110000Z
DTEND:20231019T130000Z
DTSTAMP:20231011T223304Z
URL:https://vancouver.swea.org/events/bokbytartraff/
SUMMARY:Bokbytarträff
DESCRIPTION:Har du några böcker liggande? Behöver du en ny bok? Är du k
 affesugen? Det finns många anledningar att komma på SWEAs bokbytarträff
  den 19 oktober. Ta gärna med något litet tilltugg. Kaffe och te servera
 s. Parkering inne på gården och tänk på att köra försiktigt om du se
 r hästar efter vägen.\n\nInbjudan via Evite
END:VEVENT
END:VCALENDAR