BEGIN:VCALENDAR
VERSION:2.0
PRODID:-//wp-events-plugin.com//6.5//EN
TZID:America/Vancouver
X-WR-TIMEZONE:America/Vancouver
BEGIN:VEVENT
UID:26-1526@vancouver.swea.org
DTSTART:20221026T100000Z
DTEND:20221026T120000Z
DTSTAMP:20221008T053526Z
URL:https://vancouver.swea.org/events/bokbytarfika/
SUMMARY:Bokbytarfika
DESCRIPTION:
END:VEVENT
END:VCALENDAR