BEGIN:VCALENDAR
VERSION:2.0
PRODID:-//wp-events-plugin.com//6.5//EN
TZID:America/Vancouver
X-WR-TIMEZONE:America/Vancouver
BEGIN:VEVENT
UID:26-10198@vancouver.swea.org
DTSTART:20260224T200000Z
DTEND:20260224T213000Z
DTSTAMP:20260224T190113Z
URL:https://vancouver.swea.org/events/bokbabblarna-laser-bea-uusmas-expedi
 tionen/
SUMMARY:Bokbabblarna läser Bea Uusmas Expeditionen
DESCRIPTION:Bea Uusma är en svensk läkare\, författare och forskare som 
 blivit besatt av att lösa mysteriet kring Salomon August Andrées misslyc
 kade polarexpedition 1897\, vilket hon utforskar i sin första bok i ämne
 t "Expenditionen: Min kärleshistoria" (2013). Hon har nu gett ut en frist
 ående fortsättning\, "Vitön" (2025). Båda hennes böcker om expedition
 en har belönats med Augustpriset.\n\nBokbabblarna läser i februari den f
 örsta boken "Expenditionen: Min kärlekshistoria". Om boken:\n\n1897 ger 
 sig tre män i väg mot Nordpolen i en ballong. Snart befinner de sig i en
  vit mardröm. Trettiotre år senare hittas deras döda kroppar på en öd
 e ö i ishavet.\n\nI snart hundra år har man försökt lösa en av polarh
 istoriens största gåtor. Vad hände på Vitön? Varför dog de tre medle
 mmarna i Andrée-expeditionen? Bea Uusma bestämmer sig för att ta reda p
 å svaret. Hon gräver i arkiv och i Arktis permafrusna jordlager. Söker 
 efter sanningen i laboratorieprov och packlistor. Kullkastar gamla teorier
  och finner nya bevis. Hon följer konsertpianisten som undrar vart hennes
  fästman tog vägen\, och vars händer inte kan sluta skaka.\n\nHär är 
 evite.
END:VEVENT
END:VCALENDAR