BEGIN:VCALENDAR
VERSION:2.0
PRODID:-//wp-events-plugin.com//6.5//EN
TZID:America/Vancouver
X-WR-TIMEZONE:America/Vancouver
BEGIN:VEVENT
UID:26-1522@vancouver.swea.org
DTSTART;TZID=America/Vancouver:20221013T180000
DTEND;TZID=America/Vancouver:20221013T200000
DTSTAMP:20221008T052852Z
URL:https://vancouver.swea.org/events/bastu-och-havsbad/
SUMMARY:Bastu och havsbad
DESCRIPTION:Vi badar bastu tillsammans och tar oss ett (eller flera) kallt 
 dopp i havet. Mer information om bastun hittar du här: https://thefinnish
 sauna.ca\n\nInbjudan finns på Evite.
END:VEVENT
BEGIN:VTIMEZONE
TZID:America/Vancouver
X-LIC-LOCATION:America/Vancouver
BEGIN:DAYLIGHT
DTSTART:20220313T030000
TZOFFSETFROM:-0800
TZOFFSETTO:-0700
TZNAME:PDT
END:DAYLIGHT
END:VTIMEZONE
END:VCALENDAR