BEGIN:VCALENDAR
VERSION:2.0
PRODID:-//wp-events-plugin.com//6.5//EN
TZID:America/Vancouver
X-WR-TIMEZONE:America/Vancouver
BEGIN:VEVENT
UID:26-1527@vancouver.swea.org
DTSTART:20221028T060000Z
DTEND:20221028T100000Z
DTSTAMP:20221008T053642Z
URL:https://vancouver.swea.org/events/after-work-5/
SUMMARY:After Work
DESCRIPTION:After Work på stan. Alla svenskar i Vancouver är välkomna!
END:VEVENT
END:VCALENDAR